Package: TCGAutils Version: 1.18.0 Command: /Library/Frameworks/R.framework/Resources/bin/R CMD INSTALL TCGAutils StartedAt: 2023-04-16 16:37:01 -0400 (Sun, 16 Apr 2023) EndedAt: 2023-04-16 16:38:06 -0400 (Sun, 16 Apr 2023) EllapsedTime: 65.3 seconds RetCode: 0 Status: OK