Package: SomaticSignatures Version: 2.34.0 Command: /Library/Frameworks/R.framework/Resources/bin/R CMD INSTALL SomaticSignatures StartedAt: 2023-04-16 17:19:34 -0400 (Sun, 16 Apr 2023) EndedAt: 2023-04-16 17:21:24 -0400 (Sun, 16 Apr 2023) EllapsedTime: 110.0 seconds RetCode: 0 Status: OK