Package: SingleCellExperiment Version: 1.20.1 Command: /Library/Frameworks/R.framework/Resources/bin/R CMD INSTALL SingleCellExperiment StartedAt: 2023-04-16 14:51:04 -0400 (Sun, 16 Apr 2023) EndedAt: 2023-04-16 14:51:47 -0400 (Sun, 16 Apr 2023) EllapsedTime: 42.7 seconds RetCode: 0 Status: OK