Package: SingleCellExperiment Version: 1.20.1 Command: rm -rf SingleCellExperiment.buildbin-libdir && mkdir SingleCellExperiment.buildbin-libdir && /Users/biocbuild/BBS/utils/build-universal.sh SingleCellExperiment_1.20.1.tar.gz /Library/Frameworks/R.framework/Resources/bin/R SingleCellExperiment.buildbin-libdir StartedAt: 2023-04-18 19:39:06 -0400 (Tue, 18 Apr 2023) EndedAt: 2023-04-18 19:40:17 -0400 (Tue, 18 Apr 2023) EllapsedTime: 71.8 seconds RetCode: 0 Status: OK PackageFile: SingleCellExperiment_1.20.1.tgz PackageFileSize: 1.867 MiB