Package: SeqSQC Version: 1.20.0 Command: /Library/Frameworks/R.framework/Resources/bin/R CMD build --keep-empty-dirs --no-resave-data SeqSQC StartedAt: 2023-04-18 07:12:57 -0400 (Tue, 18 Apr 2023) EndedAt: 2023-04-18 07:14:08 -0400 (Tue, 18 Apr 2023) EllapsedTime: 71.6 seconds RetCode: 0 Status: OK PackageFile: SeqSQC_1.20.0.tar.gz PackageFileSize: 3.569 MiB