Package: RcwlPipelines Version: 1.14.0 Command: rm -rf RcwlPipelines.buildbin-libdir && mkdir RcwlPipelines.buildbin-libdir && /Users/biocbuild/BBS/utils/build-universal.sh RcwlPipelines_1.14.0.tar.gz /Library/Frameworks/R.framework/Resources/bin/R RcwlPipelines.buildbin-libdir StartedAt: 2023-04-18 18:38:46 -0400 (Tue, 18 Apr 2023) EndedAt: 2023-04-18 18:39:25 -0400 (Tue, 18 Apr 2023) EllapsedTime: 38.8 seconds RetCode: 0 Status: OK PackageFile: RcwlPipelines_1.14.0.tgz PackageFileSize: 1.018 MiB