Package: RareVariantVis Version: 2.26.0 Command: /Library/Frameworks/R.framework/Resources/bin/R CMD INSTALL RareVariantVis StartedAt: 2023-04-16 17:02:09 -0400 (Sun, 16 Apr 2023) EndedAt: 2023-04-16 17:03:32 -0400 (Sun, 16 Apr 2023) EllapsedTime: 83.1 seconds RetCode: 0 Status: OK