Package: RareVariantVis Version: 2.26.0 Command: /Library/Frameworks/R.framework/Resources/bin/R CMD build --keep-empty-dirs --no-resave-data RareVariantVis StartedAt: 2023-04-18 00:02:15 -0400 (Tue, 18 Apr 2023) EndedAt: 2023-04-18 00:03:36 -0400 (Tue, 18 Apr 2023) EllapsedTime: 81.4 seconds RetCode: 0 Status: OK PackageFile: RareVariantVis_2.26.0.tar.gz PackageFileSize: 2.756 MiB