Package: RIPAT Version: 1.8.0 Command: /Library/Frameworks/R.framework/Resources/bin/R CMD INSTALL RIPAT StartedAt: 2023-04-16 17:07:00 -0400 (Sun, 16 Apr 2023) EndedAt: 2023-04-16 17:07:09 -0400 (Sun, 16 Apr 2023) EllapsedTime: 8.9 seconds RetCode: 0 Status: OK