Package: RDRToolbox Version: 1.48.0 Command: rm -rf RDRToolbox.buildbin-libdir && mkdir RDRToolbox.buildbin-libdir && /Users/biocbuild/BBS/utils/build-universal.sh RDRToolbox_1.48.0.tar.gz /Library/Frameworks/R.framework/Resources/bin/R RDRToolbox.buildbin-libdir StartedAt: 2023-04-18 18:39:26 -0400 (Tue, 18 Apr 2023) EndedAt: 2023-04-18 18:39:36 -0400 (Tue, 18 Apr 2023) EllapsedTime: 9.8 seconds RetCode: 0 Status: OK PackageFile: RDRToolbox_1.48.0.tgz PackageFileSize: 186.9 KiB