Package: RCX Version: 1.2.2 Command: rm -rf RCX.buildbin-libdir && mkdir RCX.buildbin-libdir && /Users/biocbuild/BBS/utils/build-universal.sh RCX_1.2.2.tar.gz /Library/Frameworks/R.framework/Resources/bin/R RCX.buildbin-libdir StartedAt: 2023-04-18 18:38:46 -0400 (Tue, 18 Apr 2023) EndedAt: 2023-04-18 18:39:06 -0400 (Tue, 18 Apr 2023) EllapsedTime: 19.8 seconds RetCode: 0 Status: OK PackageFile: RCX_1.2.2.tgz PackageFileSize: 3.587 MiB