Package: PathoStat Version: 1.24.0 Command: /Library/Frameworks/R.framework/Resources/bin/R CMD INSTALL PathoStat StartedAt: 2023-04-16 18:07:51 -0400 (Sun, 16 Apr 2023) EndedAt: 2023-04-16 18:08:58 -0400 (Sun, 16 Apr 2023) EllapsedTime: 66.9 seconds RetCode: 0 Status: OK