Package: POWSC Version: 1.6.0 Command: /Library/Frameworks/R.framework/Resources/bin/R CMD INSTALL POWSC StartedAt: 2023-04-16 14:54:44 -0400 (Sun, 16 Apr 2023) EndedAt: 2023-04-16 14:55:31 -0400 (Sun, 16 Apr 2023) EllapsedTime: 47.0 seconds RetCode: 0 Status: OK