Package: NanoMethViz Version: 2.4.2 Command: rm -rf NanoMethViz.buildbin-libdir && mkdir NanoMethViz.buildbin-libdir && /Users/biocbuild/BBS/utils/build-universal.sh NanoMethViz_2.4.2.tar.gz /Library/Frameworks/R.framework/Resources/bin/R NanoMethViz.buildbin-libdir StartedAt: 2023-04-18 17:47:19 -0400 (Tue, 18 Apr 2023) EndedAt: 2023-04-18 17:49:17 -0400 (Tue, 18 Apr 2023) EllapsedTime: 118.6 seconds RetCode: 0 Status: OK PackageFile: NanoMethViz_2.4.2.tgz PackageFileSize: 4.384 MiB