Package: MetaVolcanoR Version: 1.12.0 Command: /Library/Frameworks/R.framework/Resources/bin/R CMD INSTALL MetaVolcanoR StartedAt: 2023-04-16 15:19:47 -0400 (Sun, 16 Apr 2023) EndedAt: 2023-04-16 15:19:58 -0400 (Sun, 16 Apr 2023) EllapsedTime: 11.1 seconds RetCode: 0 Status: OK