Package: MassSpecWavelet Version: 1.64.1 Command: /Library/Frameworks/R.framework/Resources/bin/R CMD build --keep-empty-dirs --no-resave-data MassSpecWavelet StartedAt: 2023-04-17 13:08:16 -0400 (Mon, 17 Apr 2023) EndedAt: 2023-04-17 13:09:23 -0400 (Mon, 17 Apr 2023) EllapsedTime: 66.9 seconds RetCode: 0 Status: OK PackageFile: MassSpecWavelet_1.64.1.tar.gz PackageFileSize: 1.866 MiB