Package: MIMOSA Version: 1.36.0 Command: /Library/Frameworks/R.framework/Resources/bin/R CMD INSTALL MIMOSA StartedAt: 2023-04-16 15:41:27 -0400 (Sun, 16 Apr 2023) EndedAt: 2023-04-16 15:42:31 -0400 (Sun, 16 Apr 2023) EllapsedTime: 64.4 seconds RetCode: 0 Status: OK