| Back to Mac ARM64 build report for BioC 3.16 |
|
This page was generated on 2023-04-19 11:01:50 -0400 (Wed, 19 Apr 2023).
| Hostname | OS | Arch (*) | R version | Installed pkgs |
|---|---|---|---|---|
| kjohnson | macOS 13.0 Ventura | arm64 | 4.2.2 (2022-10-31) -- "Innocent and Trusting" | 4256 |
| Click on any hostname to see more info about the system (e.g. compilers) (*) as reported by 'uname -p', except on Windows and Mac OS X | ||||
|
To the developers/maintainers of the KEGGREST package: Make sure to use the following settings in order to reproduce any error or warning you see on this page. |
| Package 1026/2183 | Hostname | OS / Arch | INSTALL | BUILD | BUILD BIN | ||||||||
| KEGGREST 1.38.0 (landing page) Bioconductor Package Maintainer
| kjohnson | macOS 13.0 Ventura / arm64 | OK | OK | OK | ||||||||
| QUICK STATS | OS / Arch | INSTALL | BUILD | BUILD BIN | |||||||||||||
| kjohnson | macOS 13.0 Ventura / arm64 |
|
|
| |||||||||||||
| Package 1/24 | Hostname | OS / Arch | INSTALL | BUILD | BUILD BIN | ||||||||||||
| ADAM 1.14.0 (landing page) Jose Luiz Rybarczyk Filho
| kjohnson | macOS 13.0 Ventura / arm64 | OK | OK | OK | ||||||||||||
| Package 2/24 | Hostname | OS / Arch | INSTALL | BUILD | BUILD BIN | ||||||||||||
| adSplit 1.68.0 (landing page) Claudio Lottaz
| kjohnson | macOS 13.0 Ventura / arm64 | OK | OK | OK | ||||||||||||
| Package 3/24 | Hostname | OS / Arch | INSTALL | BUILD | BUILD BIN | ||||||||||||
| AnnotationDbi 1.60.2 (landing page) Bioconductor Package Maintainer
| kjohnson | macOS 13.0 Ventura / arm64 | OK | OK | OK | ||||||||||||
| Package 4/24 | Hostname | OS / Arch | INSTALL | BUILD | BUILD BIN | ||||||||||||
| attract 1.50.0 (landing page) Samuel Zimmerman
| kjohnson | macOS 13.0 Ventura / arm64 | OK | OK | OK | ||||||||||||
| Package 5/24 | Hostname | OS / Arch | INSTALL | BUILD | BUILD BIN | ||||||||||||
| BiocSet 1.12.1 (landing page) Kayla Morrell
| kjohnson | macOS 13.0 Ventura / arm64 | OK | OK | OK | ||||||||||||
| Package 6/24 | Hostname | OS / Arch | INSTALL | BUILD | BUILD BIN | ||||||||||||
| ChIPpeakAnno 3.32.0 (landing page) Jianhong Ou
| kjohnson | macOS 13.0 Ventura / arm64 | OK | OK | OK | ||||||||||||
| Package 7/24 | Hostname | OS / Arch | INSTALL | BUILD | BUILD BIN | ||||||||||||
| CNEr 1.34.0 (landing page) Ge Tan
| kjohnson | macOS 13.0 Ventura / arm64 | OK | OK | OK | ||||||||||||
| Package 8/24 | Hostname | OS / Arch | INSTALL | BUILD | BUILD BIN | ||||||||||||
| EnrichmentBrowser 2.28.2 (landing page) Ludwig Geistlinger
| kjohnson | macOS 13.0 Ventura / arm64 | OK | OK | OK | ||||||||||||
| Package 9/24 | Hostname | OS / Arch | INSTALL | BUILD | BUILD BIN | ||||||||||||
| famat 1.8.0 (landing page) Mathieu Charles
| kjohnson | macOS 13.0 Ventura / arm64 | OK | ERROR | skipped | ||||||||||||
| Package 10/24 | Hostname | OS / Arch | INSTALL | BUILD | BUILD BIN | ||||||||||||
| FELLA 1.18.0 (landing page) Sergio Picart-Armada
| kjohnson | macOS 13.0 Ventura / arm64 | OK | ERROR | skipped | ||||||||||||
| Package 11/24 | Hostname | OS / Arch | INSTALL | BUILD | BUILD BIN | ||||||||||||
| gage 2.48.0 (landing page) Weijun Luo
| kjohnson | macOS 13.0 Ventura / arm64 | OK | OK | OK | ||||||||||||
| Package 12/24 | Hostname | OS / Arch | INSTALL | BUILD | BUILD BIN | ||||||||||||
| KEGGlincs 1.24.0 (landing page) Shana White
| kjohnson | macOS 13.0 Ventura / arm64 | OK | OK | OK | ||||||||||||
| Package 13/24 | Hostname | OS / Arch | INSTALL | BUILD | BUILD BIN | ||||||||||||
| MetaboSignal 1.28.0 (landing page) Andrea Rodriguez-Martinez
| kjohnson | macOS 13.0 Ventura / arm64 | OK | OK | OK | ||||||||||||
| Package 14/24 | Hostname | OS / Arch | INSTALL | BUILD | BUILD BIN | ||||||||||||
| MWASTools 1.22.0 (landing page) Andrea Rodriguez-Martinez
| kjohnson | macOS 13.0 Ventura / arm64 | OK | OK | OK | ||||||||||||
| Package 15/24 | Hostname | OS / Arch | INSTALL | BUILD | BUILD BIN | ||||||||||||
| NoRCE 1.10.0 (landing page) Gulden Olgun
| kjohnson | macOS 13.0 Ventura / arm64 | OK | OK | OK | ||||||||||||
| Package 16/24 | Hostname | OS / Arch | INSTALL | BUILD | BUILD BIN | ||||||||||||
| PADOG 1.40.0 (landing page) Adi L. Tarca
| kjohnson | macOS 13.0 Ventura / arm64 | OK | OK | OK | ||||||||||||
| Package 17/24 | Hostname | OS / Arch | INSTALL | BUILD | BUILD BIN | ||||||||||||
| pairkat 1.4.0 (landing page) Max McGrath
| kjohnson | macOS 13.0 Ventura / arm64 | OK | OK | OK | ||||||||||||
| Package 18/24 | Hostname | OS / Arch | INSTALL | BUILD | BUILD BIN | ||||||||||||
| pathview 1.38.0 (landing page) Weijun Luo
| kjohnson | macOS 13.0 Ventura / arm64 | OK | OK | OK | ||||||||||||
| Package 19/24 | Hostname | OS / Arch | INSTALL | BUILD | BUILD BIN | ||||||||||||
| RnaSeqSampleSize 2.8.0 (landing page) Shilin Zhao Developer
| kjohnson | macOS 13.0 Ventura / arm64 | OK | OK | OK | ||||||||||||
| Package 20/24 | Hostname | OS / Arch | INSTALL | BUILD | BUILD BIN | ||||||||||||
| ROntoTools 2.26.0 (landing page) Calin Voichita
| kjohnson | macOS 13.0 Ventura / arm64 | OK | OK | OK | ||||||||||||
| Package 21/24 | Hostname | OS / Arch | INSTALL | BUILD | BUILD BIN | ||||||||||||
| SBGNview 1.12.0 (landing page) Weijun Luo
| kjohnson | macOS 13.0 Ventura / arm64 | OK | OK | OK | ||||||||||||
| Package 22/24 | Hostname | OS / Arch | INSTALL | BUILD | BUILD BIN | ||||||||||||
| SMITE 1.26.0 (landing page) Neil Ari Wijetunga
| kjohnson | macOS 13.0 Ventura / arm64 | OK | OK | OK | ||||||||||||
| Package 23/24 | Hostname | OS / Arch | INSTALL | BUILD | BUILD BIN | ||||||||||||
| transomics2cytoscape 1.8.0 (landing page) Kozo Nishida
| kjohnson | macOS 13.0 Ventura / arm64 | OK | OK | OK | ||||||||||||
| Package 24/24 | Hostname | OS / Arch | INSTALL | BUILD | BUILD BIN | ||||||||||||
| YAPSA 1.24.0 (landing page) Daniel Huebschmann
| kjohnson | macOS 13.0 Ventura / arm64 | OK | OK | OK | ||||||||||||