Package: HiCDCPlus Version: 1.6.0 Command: /Library/Frameworks/R.framework/Resources/bin/R CMD INSTALL HiCDCPlus StartedAt: 2023-04-16 17:12:03 -0400 (Sun, 16 Apr 2023) EndedAt: 2023-04-16 17:13:25 -0400 (Sun, 16 Apr 2023) EllapsedTime: 82.1 seconds RetCode: 0 Status: OK