| Back to Mac ARM64 build report for BioC 3.16 |
|
This page was generated on 2023-04-19 11:01:49 -0400 (Wed, 19 Apr 2023).
| Hostname | OS | Arch (*) | R version | Installed pkgs |
|---|---|---|---|---|
| kjohnson | macOS 13.0 Ventura | arm64 | 4.2.2 (2022-10-31) -- "Innocent and Trusting" | 4256 |
| Click on any hostname to see more info about the system (e.g. compilers) (*) as reported by 'uname -p', except on Windows and Mac OS X | ||||
|
To the developers/maintainers of the GenomicFiles package: Make sure to use the following settings in order to reproduce any error or warning you see on this page. |
| Package 786/2183 | Hostname | OS / Arch | INSTALL | BUILD | BUILD BIN | ||||||||
| GenomicFiles 1.34.0 (landing page) Bioconductor Package Maintainer
| kjohnson | macOS 13.0 Ventura / arm64 | OK | OK | OK | ||||||||
| QUICK STATS | OS / Arch | INSTALL | BUILD | BUILD BIN | |||||||||||||
| kjohnson | macOS 13.0 Ventura / arm64 |
|
|
| |||||||||||||
| Package 1/7 | Hostname | OS / Arch | INSTALL | BUILD | BUILD BIN | ||||||||||||
| CAGEfightR 1.18.0 (landing page) Malte Thodberg
| kjohnson | macOS 13.0 Ventura / arm64 | OK | OK | OK | ||||||||||||
| Package 2/7 | Hostname | OS / Arch | INSTALL | BUILD | BUILD BIN | ||||||||||||
| contiBAIT 1.26.0 (landing page) Kieran O'Neill
| kjohnson | macOS 13.0 Ventura / arm64 | OK | OK | OK | ||||||||||||
| Package 3/7 | Hostname | OS / Arch | INSTALL | BUILD | BUILD BIN | ||||||||||||
| derfinder 1.32.0 (landing page) Leonardo Collado-Torres
| kjohnson | macOS 13.0 Ventura / arm64 | OK | OK | OK | ||||||||||||
| Package 4/7 | Hostname | OS / Arch | INSTALL | BUILD | BUILD BIN | ||||||||||||
| erma 1.14.0 (landing page) VJ Carey
| kjohnson | macOS 13.0 Ventura / arm64 | OK | OK | OK | ||||||||||||
| Package 5/7 | Hostname | OS / Arch | INSTALL | BUILD | BUILD BIN | ||||||||||||
| QuasR 1.38.0 (landing page) Michael Stadler
| kjohnson | macOS 13.0 Ventura / arm64 | OK | OK | OK | ||||||||||||
| Package 6/7 | Hostname | OS / Arch | INSTALL | BUILD | BUILD BIN | ||||||||||||
| Rqc 1.32.0 (landing page) Welliton Souza
| kjohnson | macOS 13.0 Ventura / arm64 | OK | OK | OK | ||||||||||||
| Package 7/7 | Hostname | OS / Arch | INSTALL | BUILD | BUILD BIN | ||||||||||||
| VCFArray 1.14.0 (landing page) Qian Liu
| kjohnson | macOS 13.0 Ventura / arm64 | OK | OK | OK | ||||||||||||