| Back to Mac ARM64 build report for BioC 3.16 |
|
This page was generated on 2023-04-19 11:01:49 -0400 (Wed, 19 Apr 2023).
| Hostname | OS | Arch (*) | R version | Installed pkgs |
|---|---|---|---|---|
| kjohnson | macOS 13.0 Ventura | arm64 | 4.2.2 (2022-10-31) -- "Innocent and Trusting" | 4256 |
| Click on any hostname to see more info about the system (e.g. compilers) (*) as reported by 'uname -p', except on Windows and Mac OS X | ||||
|
To the developers/maintainers of the GSVA package: Make sure to use the following settings in order to reproduce any error or warning you see on this page. |
| Package 877/2183 | Hostname | OS / Arch | INSTALL | BUILD | BUILD BIN | ||||||||
| GSVA 1.46.0 (landing page) Robert Castelo
| kjohnson | macOS 13.0 Ventura / arm64 | OK | OK | OK | ||||||||
| QUICK STATS | OS / Arch | INSTALL | BUILD | BUILD BIN | |||||||||||||
| kjohnson | macOS 13.0 Ventura / arm64 |
|
|
| |||||||||||||
| Package 1/10 | Hostname | OS / Arch | INSTALL | BUILD | BUILD BIN | ||||||||||||
| consensusOV 1.20.0 (landing page) Benjamin Haibe-Kains
| kjohnson | macOS 13.0 Ventura / arm64 | OK | OK | OK | ||||||||||||
| Package 2/10 | Hostname | OS / Arch | INSTALL | BUILD | BUILD BIN | ||||||||||||
| EGSEA 1.26.0 (landing page) Monther Alhamdoosh
| kjohnson | macOS 13.0 Ventura / arm64 | OK | OK | OK | ||||||||||||
| Package 3/10 | Hostname | OS / Arch | INSTALL | BUILD | BUILD BIN | ||||||||||||
| escape 1.8.0 (landing page) Nick Borcherding
| kjohnson | macOS 13.0 Ventura / arm64 | OK | OK | OK | ||||||||||||
| Package 4/10 | Hostname | OS / Arch | INSTALL | BUILD | BUILD BIN | ||||||||||||
| octad 1.0.0 (landing page) E. Chekalin
| kjohnson | macOS 13.0 Ventura / arm64 | OK | OK | OK | ||||||||||||
| Package 5/10 | Hostname | OS / Arch | INSTALL | BUILD | BUILD BIN | ||||||||||||
| oppar 1.26.0 (landing page) Soroor Hediyeh zadeh
| kjohnson | macOS 13.0 Ventura / arm64 | OK | OK | OK | ||||||||||||
| Package 6/10 | Hostname | OS / Arch | INSTALL | BUILD | BUILD BIN | ||||||||||||
| signifinder 1.0.0 (landing page) Stefania Pirrotta
| kjohnson | macOS 13.0 Ventura / arm64 | OK | OK | OK | ||||||||||||
| Package 7/10 | Hostname | OS / Arch | INSTALL | BUILD | BUILD BIN | ||||||||||||
| singleCellTK 2.8.0 (landing page) Yichen Wang
| kjohnson | macOS 13.0 Ventura / arm64 | OK | OK | OK | ||||||||||||
| Package 8/10 | Hostname | OS / Arch | INSTALL | BUILD | BUILD BIN | ||||||||||||
| SISPA 1.28.0 (landing page) Bhakti Dwivedi
| kjohnson | macOS 13.0 Ventura / arm64 | OK | OK | OK | ||||||||||||
| Package 9/10 | Hostname | OS / Arch | INSTALL | BUILD | BUILD BIN | ||||||||||||
| TBSignatureProfiler 1.10.0 (landing page) Aubrey R. Odom-Mabey
| kjohnson | macOS 13.0 Ventura / arm64 | OK | OK | OK | ||||||||||||
| Package 10/10 | Hostname | OS / Arch | INSTALL | BUILD | BUILD BIN | ||||||||||||
| TNBC.CMS 1.14.0 (landing page) Doyeong Yu
| kjohnson | macOS 13.0 Ventura / arm64 | OK | OK | OK | ||||||||||||