| Back to Mac ARM64 build report for BioC 3.16 |
|
This page was generated on 2023-04-19 11:01:49 -0400 (Wed, 19 Apr 2023).
| Hostname | OS | Arch (*) | R version | Installed pkgs |
|---|---|---|---|---|
| kjohnson | macOS 13.0 Ventura | arm64 | 4.2.2 (2022-10-31) -- "Innocent and Trusting" | 4256 |
| Click on any hostname to see more info about the system (e.g. compilers) (*) as reported by 'uname -p', except on Windows and Mac OS X | ||||
|
To the developers/maintainers of the GOSemSim package: Make sure to use the following settings in order to reproduce any error or warning you see on this page. |
| Package 839/2183 | Hostname | OS / Arch | INSTALL | BUILD | BUILD BIN | ||||||||
| GOSemSim 2.24.0 (landing page) Guangchuang Yu
| kjohnson | macOS 13.0 Ventura / arm64 | OK | OK | OK | ||||||||
| QUICK STATS | OS / Arch | INSTALL | BUILD | BUILD BIN | |||||||||||||
| kjohnson | macOS 13.0 Ventura / arm64 |
|
|
| |||||||||||||
| Package 1/10 | Hostname | OS / Arch | INSTALL | BUILD | BUILD BIN | ||||||||||||
| clusterProfiler 4.6.2 (landing page) Guangchuang Yu
| kjohnson | macOS 13.0 Ventura / arm64 | OK | OK | OK | ||||||||||||
| Package 2/10 | Hostname | OS / Arch | INSTALL | BUILD | BUILD BIN | ||||||||||||
| DOSE 3.24.2 (landing page) Guangchuang Yu
| kjohnson | macOS 13.0 Ventura / arm64 | OK | OK | OK | ||||||||||||
| Package 3/10 | Hostname | OS / Arch | INSTALL | BUILD | BUILD BIN | ||||||||||||
| enrichplot 1.18.4 (landing page) Guangchuang Yu
| kjohnson | macOS 13.0 Ventura / arm64 | OK | OK | OK | ||||||||||||
| Package 4/10 | Hostname | OS / Arch | INSTALL | BUILD | BUILD BIN | ||||||||||||
| GAPGOM 1.14.0 (landing page) Rezvan Ehsani
| kjohnson | macOS 13.0 Ventura / arm64 | OK | ERROR | skipped | ||||||||||||
| Package 5/10 | Hostname | OS / Arch | INSTALL | BUILD | BUILD BIN | ||||||||||||
| meshes 1.24.0 (landing page) Guangchuang Yu
| kjohnson | macOS 13.0 Ventura / arm64 | OK | OK | OK | ||||||||||||
| Package 6/10 | Hostname | OS / Arch | INSTALL | BUILD | BUILD BIN | ||||||||||||
| Rcpi 1.34.0 (landing page) Nan Xiao
| kjohnson | macOS 13.0 Ventura / arm64 | OK | OK | OK | ||||||||||||
| Package 7/10 | Hostname | OS / Arch | INSTALL | BUILD | BUILD BIN | ||||||||||||
| rrvgo 1.10.0 (landing page) Sergi Sayols
| kjohnson | macOS 13.0 Ventura / arm64 | OK | OK | OK | ||||||||||||
| Package 8/10 | Hostname | OS / Arch | INSTALL | BUILD | BUILD BIN | ||||||||||||
| simplifyEnrichment 1.8.0 (landing page) Zuguang Gu
| kjohnson | macOS 13.0 Ventura / arm64 | OK | OK | OK | ||||||||||||
| Package 9/10 | Hostname | OS / Arch | INSTALL | BUILD | BUILD BIN | ||||||||||||
| tRanslatome 1.36.0 (landing page) Toma Tebaldi
| kjohnson | macOS 13.0 Ventura / arm64 | OK | OK | OK | ||||||||||||
| Package 10/10 | Hostname | OS / Arch | INSTALL | BUILD | BUILD BIN | ||||||||||||
| ViSEAGO 1.12.0 (landing page) Aurelien Brionne
| kjohnson | macOS 13.0 Ventura / arm64 | OK | OK | OK | ||||||||||||