Package: ExpressionAtlas Version: 1.26.0 Command: /Library/Frameworks/R.framework/Resources/bin/R CMD INSTALL ExpressionAtlas StartedAt: 2023-04-16 14:58:16 -0400 (Sun, 16 Apr 2023) EndedAt: 2023-04-16 14:58:50 -0400 (Sun, 16 Apr 2023) EllapsedTime: 34.9 seconds RetCode: 0 Status: OK