| Back to Mac ARM64 build report for BioC 3.16 |
|
This page was generated on 2023-04-19 11:01:48 -0400 (Wed, 19 Apr 2023).
| Hostname | OS | Arch (*) | R version | Installed pkgs |
|---|---|---|---|---|
| kjohnson | macOS 13.0 Ventura | arm64 | 4.2.2 (2022-10-31) -- "Innocent and Trusting" | 4256 |
| Click on any hostname to see more info about the system (e.g. compilers) (*) as reported by 'uname -p', except on Windows and Mac OS X | ||||
|
To the developers/maintainers of the EBImage package: Make sure to use the following settings in order to reproduce any error or warning you see on this page. |
| Package 588/2183 | Hostname | OS / Arch | INSTALL | BUILD | BUILD BIN | ||||||||
| EBImage 4.40.1 (landing page) Andrzej OleÅ›
| kjohnson | macOS 13.0 Ventura / arm64 | OK | OK | OK | ||||||||
| QUICK STATS | OS / Arch | INSTALL | BUILD | BUILD BIN | |||||||||||||
| kjohnson | macOS 13.0 Ventura / arm64 |
|
|
| |||||||||||||
| Package 1/15 | Hostname | OS / Arch | INSTALL | BUILD | BUILD BIN | ||||||||||||
| bnbc 1.20.0 (landing page) Kipper Fletez-Brant
| kjohnson | macOS 13.0 Ventura / arm64 | OK | OK | OK | ||||||||||||
| Package 2/15 | Hostname | OS / Arch | INSTALL | BUILD | BUILD BIN | ||||||||||||
| Cardinal 3.0.1 (landing page) Kylie A. Bemis
| kjohnson | macOS 13.0 Ventura / arm64 | OK | OK | OK | ||||||||||||
| Package 3/15 | Hostname | OS / Arch | INSTALL | BUILD | BUILD BIN | ||||||||||||
| CONFESS 1.26.0 (landing page) Diana LOW
| kjohnson | macOS 13.0 Ventura / arm64 | OK | OK | OK | ||||||||||||
| Package 4/15 | Hostname | OS / Arch | INSTALL | BUILD | BUILD BIN | ||||||||||||
| CRImage 1.46.0 (landing page) Henrik Failmezger
| kjohnson | macOS 13.0 Ventura / arm64 | OK | OK | OK | ||||||||||||
| Package 5/15 | Hostname | OS / Arch | INSTALL | BUILD | BUILD BIN | ||||||||||||
| cytomapper 1.10.1 (landing page) Nils Eling
| kjohnson | macOS 13.0 Ventura / arm64 | OK | OK | OK | ||||||||||||
| Package 6/15 | Hostname | OS / Arch | INSTALL | BUILD | BUILD BIN | ||||||||||||
| FISHalyseR 1.32.0 (landing page) Karesh Arunakirinathan
| kjohnson | macOS 13.0 Ventura / arm64 | OK | OK | OK | ||||||||||||
| Package 7/15 | Hostname | OS / Arch | INSTALL | BUILD | BUILD BIN | ||||||||||||
| flowcatchR 1.32.0 (landing page) Federico Marini
| kjohnson | macOS 13.0 Ventura / arm64 | OK | OK | OK | ||||||||||||
| Package 8/15 | Hostname | OS / Arch | INSTALL | BUILD | BUILD BIN | ||||||||||||
| flowCHIC 1.32.0 (landing page) Author: Joachim Schumann
| kjohnson | macOS 13.0 Ventura / arm64 | OK | OK | OK | ||||||||||||
| Package 9/15 | Hostname | OS / Arch | INSTALL | BUILD | BUILD BIN | ||||||||||||
| heatmaps 1.22.0 (landing page) Malcolm Perry
| kjohnson | macOS 13.0 Ventura / arm64 | OK | OK | OK | ||||||||||||
| Package 10/15 | Hostname | OS / Arch | INSTALL | BUILD | BUILD BIN | ||||||||||||
| imageHTS 1.48.0 (landing page) Joseph Barry
| kjohnson | macOS 13.0 Ventura / arm64 | OK | OK | OK | ||||||||||||
| Package 11/15 | Hostname | OS / Arch | INSTALL | BUILD | BUILD BIN | ||||||||||||
| imcRtools 1.4.2 (landing page) Nils Eling
| kjohnson | macOS 13.0 Ventura / arm64 | OK | OK | OK | ||||||||||||
| Package 12/15 | Hostname | OS / Arch | INSTALL | BUILD | BUILD BIN | ||||||||||||
| simpleSeg 1.0.2 (landing page) Ellis Patrick
| kjohnson | macOS 13.0 Ventura / arm64 | OK | OK | OK | ||||||||||||
| Package 13/15 | Hostname | OS / Arch | INSTALL | BUILD | BUILD BIN | ||||||||||||
Sojourner Developer
| kjohnson | macOS 13.0 Ventura / arm64 | ERROR | ERROR | skipped | ||||||||||||
| Package 14/15 | Hostname | OS / Arch | INSTALL | BUILD | BUILD BIN | ||||||||||||
| synapsis 1.4.0 (landing page) Lucy McNeill
| kjohnson | macOS 13.0 Ventura / arm64 | OK | OK | OK | ||||||||||||
| Package 15/15 | Hostname | OS / Arch | INSTALL | BUILD | BUILD BIN | ||||||||||||
| yamss 1.24.0 (landing page) Leslie Myint
| kjohnson | macOS 13.0 Ventura / arm64 | OK | OK | OK | ||||||||||||