| Back to Mac ARM64 build report for BioC 3.16 |
|
This page was generated on 2023-04-19 11:01:48 -0400 (Wed, 19 Apr 2023).
| Hostname | OS | Arch (*) | R version | Installed pkgs |
|---|---|---|---|---|
| kjohnson | macOS 13.0 Ventura | arm64 | 4.2.2 (2022-10-31) -- "Innocent and Trusting" | 4256 |
| Click on any hostname to see more info about the system (e.g. compilers) (*) as reported by 'uname -p', except on Windows and Mac OS X | ||||
|
To the developers/maintainers of the DelayedMatrixStats package: Make sure to use the following settings in order to reproduce any error or warning you see on this page. |
| Package 505/2183 | Hostname | OS / Arch | INSTALL | BUILD | BUILD BIN | ||||||||
| DelayedMatrixStats 1.20.0 (landing page) Peter Hickey
| kjohnson | macOS 13.0 Ventura / arm64 | OK | OK | OK | ||||||||
| QUICK STATS | OS / Arch | INSTALL | BUILD | BUILD BIN | |||||||||||||
| kjohnson | macOS 13.0 Ventura / arm64 |
|
|
| |||||||||||||
| Package 1/31 | Hostname | OS / Arch | INSTALL | BUILD | BUILD BIN | ||||||||||||
| AUCell 1.20.2 (landing page) Sara Aibar
| kjohnson | macOS 13.0 Ventura / arm64 | OK | OK | OK | ||||||||||||
| Package 2/31 | Hostname | OS / Arch | INSTALL | BUILD | BUILD BIN | ||||||||||||
| batchelor 1.14.1 (landing page) Aaron Lun
| kjohnson | macOS 13.0 Ventura / arm64 | OK | OK | OK | ||||||||||||
| Package 3/31 | Hostname | OS / Arch | INSTALL | BUILD | BUILD BIN | ||||||||||||
| biscuiteer 1.12.0 (landing page) Jacob Morrison
| kjohnson | macOS 13.0 Ventura / arm64 | OK | OK | OK | ||||||||||||
| Package 4/31 | Hostname | OS / Arch | INSTALL | BUILD | BUILD BIN | ||||||||||||
| bsseq 1.34.0 (landing page) Kasper Daniel Hansen
| kjohnson | macOS 13.0 Ventura / arm64 | OK | OK | OK | ||||||||||||
| Package 5/31 | Hostname | OS / Arch | INSTALL | BUILD | BUILD BIN | ||||||||||||
| CAGEr 2.4.0 (landing page) Charles Plessy
| kjohnson | macOS 13.0 Ventura / arm64 | OK | OK | OK | ||||||||||||
| Package 6/31 | Hostname | OS / Arch | INSTALL | BUILD | BUILD BIN | ||||||||||||
| Cepo 1.4.0 (landing page) Hani Jieun Kim
| kjohnson | macOS 13.0 Ventura / arm64 | OK | OK | OK | ||||||||||||
| Package 7/31 | Hostname | OS / Arch | INSTALL | BUILD | BUILD BIN | ||||||||||||
| compartmap 1.16.0 (landing page) Benjamin Johnson
| kjohnson | macOS 13.0 Ventura / arm64 | OK | OK | OK | ||||||||||||
| Package 8/31 | Hostname | OS / Arch | INSTALL | BUILD | BUILD BIN | ||||||||||||
| dmrseq 1.18.1 (landing page) Keegan Korthauer
| kjohnson | macOS 13.0 Ventura / arm64 | OK | OK | OK | ||||||||||||
| Package 9/31 | Hostname | OS / Arch | INSTALL | BUILD | BUILD BIN | ||||||||||||
| DropletUtils 1.18.1 (landing page) Jonathan Griffiths
| kjohnson | macOS 13.0 Ventura / arm64 | OK | OK | OK | ||||||||||||
| Package 10/31 | Hostname | OS / Arch | INSTALL | BUILD | BUILD BIN | ||||||||||||
| FRASER 1.10.2 (landing page) Christian Mertes
| kjohnson | macOS 13.0 Ventura / arm64 | OK | OK | OK | ||||||||||||
| Package 11/31 | Hostname | OS / Arch | INSTALL | BUILD | BUILD BIN | ||||||||||||
| glmGamPoi 1.10.2 (landing page) Constantin Ahlmann-Eltze
| kjohnson | macOS 13.0 Ventura / arm64 | OK | OK | OK | ||||||||||||
| Package 12/31 | Hostname | OS / Arch | INSTALL | BUILD | BUILD BIN | ||||||||||||
| GSVA 1.46.0 (landing page) Robert Castelo
| kjohnson | macOS 13.0 Ventura / arm64 | OK | OK | OK | ||||||||||||
| Package 13/31 | Hostname | OS / Arch | INSTALL | BUILD | BUILD BIN | ||||||||||||
| methrix 1.12.0 (landing page) Anand Mayakonda
| kjohnson | macOS 13.0 Ventura / arm64 | OK | OK | OK | ||||||||||||
| Package 14/31 | Hostname | OS / Arch | INSTALL | BUILD | BUILD BIN | ||||||||||||
| methylSig 1.10.0 (landing page) Raymond G. Cavalcante
| kjohnson | macOS 13.0 Ventura / arm64 | OK | OK | OK | ||||||||||||
| Package 15/31 | Hostname | OS / Arch | INSTALL | BUILD | BUILD BIN | ||||||||||||
| mia 1.6.0 (landing page) Tuomas Borman
| kjohnson | macOS 13.0 Ventura / arm64 | OK | OK | OK | ||||||||||||
| Package 16/31 | Hostname | OS / Arch | INSTALL | BUILD | BUILD BIN | ||||||||||||
| minfi 1.44.0 (landing page) Kasper Daniel Hansen
| kjohnson | macOS 13.0 Ventura / arm64 | OK | OK | OK | ||||||||||||
| Package 17/31 | Hostname | OS / Arch | INSTALL | BUILD | BUILD BIN | ||||||||||||
| mumosa 1.6.0 (landing page) Aaron Lun
| kjohnson | macOS 13.0 Ventura / arm64 | OK | OK | OK | ||||||||||||
| Package 18/31 | Hostname | OS / Arch | INSTALL | BUILD | BUILD BIN | ||||||||||||
| NetActivity 1.0.0 (landing page) Carlos Ruiz-Arenas
| kjohnson | macOS 13.0 Ventura / arm64 | OK | OK | OK | ||||||||||||
| Package 19/31 | Hostname | OS / Arch | INSTALL | BUILD | BUILD BIN | ||||||||||||
| NxtIRFcore 1.4.0 (landing page) Alex Chit Hei Wong
| kjohnson | macOS 13.0 Ventura / arm64 | OK | OK | OK | ||||||||||||
| Package 20/31 | Hostname | OS / Arch | INSTALL | BUILD | BUILD BIN | ||||||||||||
| PCAtools 2.10.0 (landing page) Kevin Blighe
| kjohnson | macOS 13.0 Ventura / arm64 | OK | OK | OK | ||||||||||||
| Package 21/31 | Hostname | OS / Arch | INSTALL | BUILD | BUILD BIN | ||||||||||||
| recountmethylation 1.8.6 (landing page) Sean K Maden
| kjohnson | macOS 13.0 Ventura / arm64 | OK | OK | OK | ||||||||||||
| Package 22/31 | Hostname | OS / Arch | INSTALL | BUILD | BUILD BIN | ||||||||||||
| SCArray 1.6.0 (landing page) Xiuwen Zheng
| kjohnson | macOS 13.0 Ventura / arm64 | OK | OK | OK | ||||||||||||
| Package 23/31 | Hostname | OS / Arch | INSTALL | BUILD | BUILD BIN | ||||||||||||
| scater 1.26.1 (landing page) Alan O'Callaghan
| kjohnson | macOS 13.0 Ventura / arm64 | OK | OK | OK | ||||||||||||
| Package 24/31 | Hostname | OS / Arch | INSTALL | BUILD | BUILD BIN | ||||||||||||
| scMerge 1.14.0 (landing page) Yingxin Lin
| kjohnson | macOS 13.0 Ventura / arm64 | OK | OK | OK | ||||||||||||
| Package 25/31 | Hostname | OS / Arch | INSTALL | BUILD | BUILD BIN | ||||||||||||
| scran 1.26.2 (landing page) Aaron Lun
| kjohnson | macOS 13.0 Ventura / arm64 | OK | OK | OK | ||||||||||||
| Package 26/31 | Hostname | OS / Arch | INSTALL | BUILD | BUILD BIN | ||||||||||||
| scuttle 1.8.4 (landing page) Aaron Lun
| kjohnson | macOS 13.0 Ventura / arm64 | OK | OK | OK | ||||||||||||
| Package 27/31 | Hostname | OS / Arch | INSTALL | BUILD | BUILD BIN | ||||||||||||
| singleCellTK 2.8.0 (landing page) Yichen Wang
| kjohnson | macOS 13.0 Ventura / arm64 | OK | OK | OK | ||||||||||||
| Package 28/31 | Hostname | OS / Arch | INSTALL | BUILD | BUILD BIN | ||||||||||||
| SingleR 2.0.0 (landing page) Aaron Lun
| kjohnson | macOS 13.0 Ventura / arm64 | OK | OK | OK | ||||||||||||
| Package 29/31 | Hostname | OS / Arch | INSTALL | BUILD | BUILD BIN | ||||||||||||
| sparrow 1.4.0 (landing page) Steve Lianoglou
| kjohnson | macOS 13.0 Ventura / arm64 | OK | OK | OK | ||||||||||||
| Package 30/31 | Hostname | OS / Arch | INSTALL | BUILD | BUILD BIN | ||||||||||||
| SpliceWiz 1.0.4 (landing page) Alex Chit Hei Wong
| kjohnson | macOS 13.0 Ventura / arm64 | OK | OK | OK | ||||||||||||
| Package 31/31 | Hostname | OS / Arch | INSTALL | BUILD | BUILD BIN | ||||||||||||
| weitrix 1.10.0 (landing page) Paul Harrison
| kjohnson | macOS 13.0 Ventura / arm64 | OK | OK | OK | ||||||||||||