| Back to Mac ARM64 build report for BioC 3.16 |
|
This page was generated on 2023-04-19 11:01:48 -0400 (Wed, 19 Apr 2023).
| Hostname | OS | Arch (*) | R version | Installed pkgs |
|---|---|---|---|---|
| kjohnson | macOS 13.0 Ventura | arm64 | 4.2.2 (2022-10-31) -- "Innocent and Trusting" | 4256 |
| Click on any hostname to see more info about the system (e.g. compilers) (*) as reported by 'uname -p', except on Windows and Mac OS X | ||||
|
To the developers/maintainers of the DOSE package: Make sure to use the following settings in order to reproduce any error or warning you see on this page. |
| Package 566/2183 | Hostname | OS / Arch | INSTALL | BUILD | BUILD BIN | ||||||||
| DOSE 3.24.2 (landing page) Guangchuang Yu
| kjohnson | macOS 13.0 Ventura / arm64 | OK | OK | OK | ||||||||
| QUICK STATS | OS / Arch | INSTALL | BUILD | BUILD BIN | |||||||||||||
| kjohnson | macOS 13.0 Ventura / arm64 |
|
|
| |||||||||||||
| Package 1/17 | Hostname | OS / Arch | INSTALL | BUILD | BUILD BIN | ||||||||||||
| bioCancer 1.26.04 (landing page) Karim Mezhoud
| kjohnson | macOS 13.0 Ventura / arm64 | OK | OK | OK | ||||||||||||
| Package 2/17 | Hostname | OS / Arch | INSTALL | BUILD | BUILD BIN | ||||||||||||
| clusterProfiler 4.6.2 (landing page) Guangchuang Yu
| kjohnson | macOS 13.0 Ventura / arm64 | OK | OK | OK | ||||||||||||
| Package 3/17 | Hostname | OS / Arch | INSTALL | BUILD | BUILD BIN | ||||||||||||
| debrowser 1.26.3 (landing page) Alper Kucukural
| kjohnson | macOS 13.0 Ventura / arm64 | OK | OK | OK | ||||||||||||
| Package 4/17 | Hostname | OS / Arch | INSTALL | BUILD | BUILD BIN | ||||||||||||
| eegc 1.24.0 (landing page) Xiaoyuan Zhou
| kjohnson | macOS 13.0 Ventura / arm64 | OK | OK | OK | ||||||||||||
| Package 5/17 | Hostname | OS / Arch | INSTALL | BUILD | BUILD BIN | ||||||||||||
| enrichplot 1.18.4 (landing page) Guangchuang Yu
| kjohnson | macOS 13.0 Ventura / arm64 | OK | OK | OK | ||||||||||||
| Package 6/17 | Hostname | OS / Arch | INSTALL | BUILD | BUILD BIN | ||||||||||||
| GDCRNATools 1.18.0 (landing page) Ruidong Li
| kjohnson | macOS 13.0 Ventura / arm64 | OK | OK | OK | ||||||||||||
| Package 7/17 | Hostname | OS / Arch | INSTALL | BUILD | BUILD BIN | ||||||||||||
| MAGeCKFlute 2.2.0 (landing page) Wubing Zhang
| kjohnson | macOS 13.0 Ventura / arm64 | OK | OK | OK | ||||||||||||
| Package 8/17 | Hostname | OS / Arch | INSTALL | BUILD | BUILD BIN | ||||||||||||
| meshes 1.24.0 (landing page) Guangchuang Yu
| kjohnson | macOS 13.0 Ventura / arm64 | OK | OK | OK | ||||||||||||
| Package 9/17 | Hostname | OS / Arch | INSTALL | BUILD | BUILD BIN | ||||||||||||
| miRspongeR 2.2.0 (landing page) Junpeng Zhang
| kjohnson | macOS 13.0 Ventura / arm64 | OK | OK | OK | ||||||||||||
| Package 10/17 | Hostname | OS / Arch | INSTALL | BUILD | BUILD BIN | ||||||||||||
| MoonlightR 1.24.0 (landing page) Matteo Tiberti
| kjohnson | macOS 13.0 Ventura / arm64 | OK | OK | OK | ||||||||||||
| Package 11/17 | Hostname | OS / Arch | INSTALL | BUILD | BUILD BIN | ||||||||||||
| pareg 1.2.0 (landing page) Kim Philipp Jablonski
| kjohnson | macOS 13.0 Ventura / arm64 | OK | ERROR | skipped | ||||||||||||
| Package 12/17 | Hostname | OS / Arch | INSTALL | BUILD | BUILD BIN | ||||||||||||
| Pigengene 1.24.0 (landing page) Habil Zare
| kjohnson | macOS 13.0 Ventura / arm64 | OK | OK | OK | ||||||||||||
| Package 13/17 | Hostname | OS / Arch | INSTALL | BUILD | BUILD BIN | ||||||||||||
| ReactomePA 1.42.0 (landing page) Guangchuang Yu
| kjohnson | macOS 13.0 Ventura / arm64 | OK | OK | OK | ||||||||||||
| Package 14/17 | Hostname | OS / Arch | INSTALL | BUILD | BUILD BIN | ||||||||||||
| RegEnrich 1.8.0 (landing page) Weiyang Tao
| kjohnson | macOS 13.0 Ventura / arm64 | OK | OK | OK | ||||||||||||
| Package 15/17 | Hostname | OS / Arch | INSTALL | BUILD | BUILD BIN | ||||||||||||
Kuan-Hao Chao
| kjohnson | macOS 13.0 Ventura / arm64 | OK | OK | OK | ||||||||||||
| Package 16/17 | Hostname | OS / Arch | INSTALL | BUILD | BUILD BIN | ||||||||||||
| scTensor 2.8.0 (landing page) Koki Tsuyuzaki
| kjohnson | macOS 13.0 Ventura / arm64 | OK | OK | OK | ||||||||||||
| Package 17/17 | Hostname | OS / Arch | INSTALL | BUILD | BUILD BIN | ||||||||||||
| signatureSearch 1.12.0 (landing page) Brendan Gongol
| kjohnson | macOS 13.0 Ventura / arm64 | OK | OK | OK | ||||||||||||