Package: CoreGx Version: 2.2.0 Command: /Library/Frameworks/R.framework/Resources/bin/R CMD build --keep-empty-dirs --no-resave-data CoreGx StartedAt: 2023-04-17 01:37:29 -0400 (Mon, 17 Apr 2023) EndedAt: 2023-04-17 01:38:31 -0400 (Mon, 17 Apr 2023) EllapsedTime: 61.1 seconds RetCode: 0 Status: OK PackageFile: CoreGx_2.2.0.tar.gz PackageFileSize: 1.333 MiB