Package: CellTrails Version: 1.16.0 Command: /Library/Frameworks/R.framework/Resources/bin/R CMD build --keep-empty-dirs --no-resave-data CellTrails StartedAt: 2023-04-16 23:32:13 -0400 (Sun, 16 Apr 2023) EndedAt: 2023-04-16 23:32:58 -0400 (Sun, 16 Apr 2023) EllapsedTime: 45.6 seconds RetCode: 0 Status: OK PackageFile: CellTrails_1.16.0.tar.gz PackageFileSize: 2.628 MiB