Package: CNORode Version: 1.40.0 Command: /Library/Frameworks/R.framework/Resources/bin/R CMD build --keep-empty-dirs --no-resave-data CNORode StartedAt: 2023-04-17 00:52:40 -0400 (Mon, 17 Apr 2023) EndedAt: 2023-04-17 00:53:56 -0400 (Mon, 17 Apr 2023) EllapsedTime: 75.6 seconds RetCode: 0 Status: OK PackageFile: CNORode_1.40.0.tar.gz PackageFileSize: 726.9 KiB