| Back to Mac ARM64 build report for BioC 3.16 | 
 | 
This page was generated on 2023-04-19 11:01:48 -0400 (Wed, 19 Apr 2023).
| Hostname | OS | Arch (*) | R version | Installed pkgs | 
|---|---|---|---|---|
| kjohnson | macOS 13.0 Ventura | arm64 | 4.2.2 (2022-10-31) -- "Innocent and Trusting" | 4256 | 
| Click on any hostname to see more info about the system (e.g. compilers) (*) as reported by 'uname -p', except on Windows and Mac OS X | ||||
| To the developers/maintainers of the CARNIVAL package: Make sure to use the following settings in order to reproduce any error or warning you see on this page. | 
| Package 255/2183 | Hostname | OS / Arch | INSTALL | BUILD | BUILD BIN | ||||||||
| CARNIVAL 2.8.0  (landing page) Attila Gabor 
 | kjohnson | macOS 13.0 Ventura / arm64 | OK | OK | OK |  | |||||||
| QUICK STATS | OS / Arch | INSTALL | BUILD | BUILD BIN | |||||||||||||
| kjohnson | macOS 13.0 Ventura / arm64 | 
 | 
 | 
 | |||||||||||||
| Package 1/1 | Hostname | OS / Arch | INSTALL | BUILD | BUILD BIN | ||||||||||||
| cosmosR 1.6.0  (landing page) Attila Gabor 
 | kjohnson | macOS 13.0 Ventura / arm64 | OK | OK | OK |  | |||||||||||