Package: BubbleTree Version: 2.28.0 Command: /Library/Frameworks/R.framework/Resources/bin/R CMD build --keep-empty-dirs --no-resave-data BubbleTree StartedAt: 2023-04-16 22:35:39 -0400 (Sun, 16 Apr 2023) EndedAt: 2023-04-16 22:39:10 -0400 (Sun, 16 Apr 2023) EllapsedTime: 211.3 seconds RetCode: 0 Status: OK PackageFile: BubbleTree_2.28.0.tar.gz PackageFileSize: 27.41 MiB