Package: BioNet Version: 1.58.0 Command: /Library/Frameworks/R.framework/Resources/bin/R CMD INSTALL BioNet StartedAt: 2023-04-16 15:53:49 -0400 (Sun, 16 Apr 2023) EndedAt: 2023-04-16 15:54:16 -0400 (Sun, 16 Apr 2023) EllapsedTime: 27.5 seconds RetCode: 0 Status: OK