Package: BioNet Version: 1.58.0 Command: /Library/Frameworks/R.framework/Resources/bin/R CMD build --keep-empty-dirs --no-resave-data BioNet StartedAt: 2023-04-16 22:04:37 -0400 (Sun, 16 Apr 2023) EndedAt: 2023-04-16 22:05:37 -0400 (Sun, 16 Apr 2023) EllapsedTime: 60.1 seconds RetCode: 0 Status: OK PackageFile: BioNet_1.58.0.tar.gz PackageFileSize: 1.801 MiB