Package: BioCor Version: 1.22.0 Command: /Library/Frameworks/R.framework/Resources/bin/R CMD build --keep-empty-dirs --no-resave-data BioCor StartedAt: 2023-04-16 21:48:17 -0400 (Sun, 16 Apr 2023) EndedAt: 2023-04-16 21:52:08 -0400 (Sun, 16 Apr 2023) EllapsedTime: 231.1 seconds RetCode: 0 Status: OK PackageFile: BioCor_1.22.0.tar.gz PackageFileSize: 1.324 MiB