Package: crisprScore Version: 1.2.0 Command: /home/biocbuild/bbs-3.16-bioc/R/bin/R CMD check --test-dir=longtests --no-stop-on-test-error --no-codoc --no-examples --no-manual --ignore-vignettes --check-subdirs=no crisprScore_1.2.0.tar.gz StartedAt: 2023-04-15 08:13:06 -0400 (Sat, 15 Apr 2023) EndedAt: 2023-04-15 08:16:17 -0400 (Sat, 15 Apr 2023) EllapsedTime: 191.2 seconds RetCode: 0 Status: OK CheckDir: crisprScore.Rcheck Warnings: 0