Package: cBioPortalData Version: 2.10.3 Command: chmod a+r cBioPortalData -R && F:\biocbuild\bbs-3.16-bioc\R\bin\R.exe CMD build --keep-empty-dirs --no-resave-data --no-build-vignettes --no-manual cBioPortalData StartedAt: 2023-04-15 08:02:49 -0400 (Sat, 15 Apr 2023) EndedAt: 2023-04-15 08:03:23 -0400 (Sat, 15 Apr 2023) EllapsedTime: 34.9 seconds RetCode: 0 Status: OK PackageFile: cBioPortalData_2.10.3.tar.gz PackageFileSize: 66.59 KiB