Package: cBioPortalData Version: 2.10.3 Command: /home/biocbuild/bbs-3.16-bioc/R/bin/R CMD check --test-dir=longtests --no-stop-on-test-error --no-codoc --no-examples --no-manual --ignore-vignettes --check-subdirs=no cBioPortalData_2.10.3.tar.gz StartedAt: 2023-04-15 08:10:12 -0400 (Sat, 15 Apr 2023) EndedAt: 2023-04-15 10:32:51 -0400 (Sat, 15 Apr 2023) EllapsedTime: 8559.1 seconds RetCode: 1 Status: ERROR CheckDir: cBioPortalData.Rcheck Warnings: NA