############################################################################## ############################################################################## ### ### Running command: ### ### /Library/Frameworks/R.framework/Resources/bin/R CMD build --keep-empty-dirs --no-resave-data xcore ### ############################################################################## ############################################################################## * checking for file ‘xcore/DESCRIPTION’ ... OK * preparing ‘xcore’: * checking DESCRIPTION meta-information ... OK * installing the package to build vignettes ----------------------------------- ERROR: dependency ‘edgeR’ is not available for package ‘xcore’ * removing ‘/private/tmp/RtmpeopIJI/Rinstb7a92c6f18be/xcore’ ----------------------------------- ERROR: package installation failed