Package: xcms Version: 3.20.0 Command: rm -rf xcms.buildbin-libdir && mkdir xcms.buildbin-libdir && F:\biocbuild\bbs-3.16-bioc\R\bin\R.exe CMD INSTALL --build --library=xcms.buildbin-libdir xcms_3.20.0.tar.gz StartedAt: 2023-04-11 08:59:00 -0400 (Tue, 11 Apr 2023) EndedAt: 2023-04-11 09:00:59 -0400 (Tue, 11 Apr 2023) EllapsedTime: 119.1 seconds RetCode: 0 Status: OK PackageFile: xcms_3.20.0.zip PackageFileSize: 6.165 MiB