Package: xcms Version: 3.20.0 Command: /home/biocbuild/bbs-3.16-bioc/R/bin/R CMD check --install=check:xcms.install-out.txt --library=/home/biocbuild/bbs-3.16-bioc/R/site-library --timings xcms_3.20.0.tar.gz StartedAt: 2023-04-11 00:52:25 -0400 (Tue, 11 Apr 2023) EndedAt: 2023-04-11 01:06:58 -0400 (Tue, 11 Apr 2023) EllapsedTime: 873.4 seconds RetCode: 0 Status: WARNINGS CheckDir: xcms.Rcheck Warnings: 1