Package: tricycle Version: 1.6.0 Command: /home/biocbuild/bbs-3.16-bioc/R/bin/R CMD INSTALL tricycle StartedAt: 2023-04-10 15:34:31 -0400 (Mon, 10 Apr 2023) EndedAt: 2023-04-10 15:35:10 -0400 (Mon, 10 Apr 2023) EllapsedTime: 39.6 seconds RetCode: 0 Status: OK