Package: transomics2cytoscape Version: 1.8.0 Command: /home/biocbuild/bbs-3.16-bioc/R/bin/R CMD build --keep-empty-dirs --no-resave-data transomics2cytoscape StartedAt: 2023-04-10 18:28:18 -0400 (Mon, 10 Apr 2023) EndedAt: 2023-04-10 18:28:27 -0400 (Mon, 10 Apr 2023) EllapsedTime: 8.6 seconds RetCode: 0 Status: OK PackageFile: transomics2cytoscape_1.8.0.tar.gz PackageFileSize: 8.404 MiB