Package: swfdr Version: 1.24.0 Command: chmod a+r swfdr -R && F:\biocbuild\bbs-3.16-bioc\R\bin\R.exe CMD build --keep-empty-dirs --no-resave-data swfdr StartedAt: 2023-04-10 21:59:42 -0400 (Mon, 10 Apr 2023) EndedAt: 2023-04-10 22:00:52 -0400 (Mon, 10 Apr 2023) EllapsedTime: 70.0 seconds RetCode: 0 Status: OK PackageFile: swfdr_1.24.0.tar.gz PackageFileSize: 1.206 MiB