Package: spkTools Version: 1.53.0 Command: rm -rf spkTools.buildbin-libdir && mkdir spkTools.buildbin-libdir && /Users/biocbuild/BBS/utils/build-universal.sh spkTools_1.53.0.tar.gz /Library/Frameworks/R.framework/Resources/bin/R spkTools.buildbin-libdir StartedAt: 2022-07-07 09:16:08 -0400 (Thu, 07 Jul 2022) EndedAt: 2022-07-07 09:16:18 -0400 (Thu, 07 Jul 2022) EllapsedTime: 10.0 seconds RetCode: 0 Status: OK PackageFile: spkTools_1.53.0.tgz PackageFileSize: 829.6 KiB