| Back to Multiple platform build/check report for BioC 3.16: simplified long |
|
This page was generated on 2023-04-12 11:05:53 -0400 (Wed, 12 Apr 2023).
| Hostname | OS | Arch (*) | R version | Installed pkgs |
|---|---|---|---|---|
| nebbiolo2 | Linux (Ubuntu 20.04.5 LTS) | x86_64 | 4.2.3 (2023-03-15) -- "Shortstop Beagle" | 4502 |
| palomino4 | Windows Server 2022 Datacenter | x64 | 4.2.3 (2023-03-15 ucrt) -- "Shortstop Beagle" | 4282 |
| lconway | macOS 12.5.1 Monterey | x86_64 | 4.2.3 (2023-03-15) -- "Shortstop Beagle" | 4310 |
| Click on any hostname to see more info about the system (e.g. compilers) (*) as reported by 'uname -p', except on Windows and Mac OS X | ||||
|
To the developers/maintainers of the spkTools package: - Please allow up to 24 hours (and sometimes 48 hours) for your latest push to git@git.bioconductor.org:packages/spkTools.git to reflect on this report. See How and When does the builder pull? When will my changes propagate? for more information. - Make sure to use the following settings in order to reproduce any error or warning you see on this page. |
| Package 1943/2183 | Hostname | OS / Arch | INSTALL | BUILD | CHECK | BUILD BIN | ||||||||
| spkTools 1.54.0 (landing page) Matthew N McCall
| nebbiolo2 | Linux (Ubuntu 20.04.5 LTS) / x86_64 | OK | OK | OK | |||||||||
| palomino4 | Windows Server 2022 Datacenter / x64 | OK | OK | OK | OK | |||||||||
| lconway | macOS 12.5.1 Monterey / x86_64 | OK | OK | OK | OK | |||||||||
| Package: spkTools |
| Version: 1.54.0 |
| Command: F:\biocbuild\bbs-3.16-bioc\R\bin\R.exe CMD check --no-multiarch --install=check:spkTools.install-out.txt --library=F:\biocbuild\bbs-3.16-bioc\R\library --no-vignettes --timings spkTools_1.54.0.tar.gz |
| StartedAt: 2023-04-11 06:21:11 -0400 (Tue, 11 Apr 2023) |
| EndedAt: 2023-04-11 06:23:11 -0400 (Tue, 11 Apr 2023) |
| EllapsedTime: 120.1 seconds |
| RetCode: 0 |
| Status: OK |
| CheckDir: spkTools.Rcheck |
| Warnings: 0 |
##############################################################################
##############################################################################
###
### Running command:
###
### F:\biocbuild\bbs-3.16-bioc\R\bin\R.exe CMD check --no-multiarch --install=check:spkTools.install-out.txt --library=F:\biocbuild\bbs-3.16-bioc\R\library --no-vignettes --timings spkTools_1.54.0.tar.gz
###
##############################################################################
##############################################################################
* using log directory 'F:/biocbuild/bbs-3.16-bioc/meat/spkTools.Rcheck'
* using R version 4.2.3 (2023-03-15 ucrt)
* using platform: x86_64-w64-mingw32 (64-bit)
* using session charset: UTF-8
* using option '--no-vignettes'
* checking for file 'spkTools/DESCRIPTION' ... OK
* this is package 'spkTools' version '1.54.0'
* checking package namespace information ... OK
* checking package dependencies ... OK
* checking if this is a source package ... OK
* checking if there is a namespace ... OK
* checking for hidden files and directories ... OK
* checking for portable file names ... OK
* checking whether package 'spkTools' can be installed ... OK
* checking installed package size ... OK
* checking package directory ... OK
* checking 'build' directory ... OK
* checking DESCRIPTION meta-information ... NOTE
Package listed in more than one of Depends, Imports, Suggests, Enhances:
'Biobase'
A package should be listed in only one of these fields.
* checking top-level files ... OK
* checking for left-over files ... OK
* checking index information ... OK
* checking package subdirectories ... OK
* checking R files for non-ASCII characters ... OK
* checking R files for syntax errors ... OK
* checking whether the package can be loaded ... OK
* checking whether the package can be loaded with stated dependencies ... OK
* checking whether the package can be unloaded cleanly ... OK
* checking whether the namespace can be loaded with stated dependencies ... OK
* checking whether the namespace can be unloaded cleanly ... OK
* checking dependencies in R code ... OK
* checking S3 generic/method consistency ... OK
* checking replacement functions ... OK
* checking foreign function calls ... OK
* checking R code for possible problems ... OK
* checking Rd files ... OK
* checking Rd metadata ... OK
* checking Rd cross-references ... OK
* checking for missing documentation entries ... OK
* checking for code/documentation mismatches ... OK
* checking Rd \usage sections ... OK
* checking Rd contents ... OK
* checking for unstated dependencies in examples ... OK
* checking contents of 'data' directory ... OK
* checking data for non-ASCII characters ... OK
* checking data for ASCII and uncompressed saves ... OK
* checking sizes of PDF files under 'inst/doc' ... OK
* checking files in 'vignettes' ... OK
* checking examples ... OK
Examples with CPU (user + system) or elapsed time > 5s
user system elapsed
spkTools 28.39 1.87 30.26
spkAll 27.56 2.61 30.19
spkGNN 9.04 0.82 9.86
* checking for unstated dependencies in vignettes ... OK
* checking package vignettes in 'inst/doc' ... OK
* checking running R code from vignettes ... SKIPPED
* checking re-building of vignette outputs ... SKIPPED
* checking PDF version of manual ... OK
* DONE
Status: 1 NOTE
See
'F:/biocbuild/bbs-3.16-bioc/meat/spkTools.Rcheck/00check.log'
for details.
spkTools.Rcheck/00install.out
############################################################################## ############################################################################## ### ### Running command: ### ### F:\biocbuild\bbs-3.16-bioc\R\bin\R.exe CMD INSTALL spkTools ### ############################################################################## ############################################################################## * installing to library 'F:/biocbuild/bbs-3.16-bioc/R/library' * installing *source* package 'spkTools' ... ** using staged installation ** R ** data ** byte-compile and prepare package for lazy loading ** help *** installing help indices ** building package indices ** installing vignettes ** testing if installed package can be loaded from temporary location ** testing if installed package can be loaded from final location ** testing if installed package keeps a record of temporary installation path * DONE (spkTools)
spkTools.Rcheck/spkTools-Ex.timings
| name | user | system | elapsed | |
| SpikeInExpressSet-class | 0.16 | 0.01 | 0.17 | |
| plotSpkBox | 0.69 | 0.03 | 0.72 | |
| spkAccSD | 0.12 | 0.03 | 0.15 | |
| spkAll | 27.56 | 2.61 | 30.19 | |
| spkAnova | 0.10 | 0.00 | 0.09 | |
| spkBal | 0.09 | 0.00 | 0.10 | |
| spkBox | 0.80 | 0.11 | 0.90 | |
| spkDensity | 0.16 | 0.03 | 0.19 | |
| spkGNN | 9.04 | 0.82 | 9.86 | |
| spkMA | 1.36 | 0.03 | 1.39 | |
| spkPair | 0.06 | 0.01 | 0.08 | |
| spkPairNS | 0.07 | 0.00 | 0.06 | |
| spkPot | 0.79 | 0.00 | 0.80 | |
| spkQuantile | 0.08 | 0.04 | 0.11 | |
| spkSlope | 0.11 | 0.00 | 0.11 | |
| spkTools | 28.39 | 1.87 | 30.26 | |
| spkVar | 0.05 | 0.00 | 0.05 | |
| summarySpkBox | 0.66 | 0.05 | 0.70 | |