Package: specL Version: 1.32.1 Command: /home/biocbuild/bbs-3.16-bioc/R/bin/R CMD build --keep-empty-dirs --no-resave-data specL StartedAt: 2023-04-10 18:18:50 -0400 (Mon, 10 Apr 2023) EndedAt: 2023-04-10 18:19:10 -0400 (Mon, 10 Apr 2023) EllapsedTime: 19.9 seconds RetCode: 0 Status: OK PackageFile: specL_1.32.1.tar.gz PackageFileSize: 1.818 MiB