Package: singleCellTK Version: 2.8.0 Command: /home/biocbuild/bbs-3.16-bioc/R/bin/R CMD build --keep-empty-dirs --no-resave-data singleCellTK StartedAt: 2023-04-10 18:15:18 -0400 (Mon, 10 Apr 2023) EndedAt: 2023-04-10 18:16:09 -0400 (Mon, 10 Apr 2023) EllapsedTime: 50.3 seconds RetCode: 0 Status: OK PackageFile: singleCellTK_2.8.0.tar.gz PackageFileSize: 4.792 MiB