Package: sigsquared Version: 1.30.0 Command: /home/biocbuild/bbs-3.16-bioc/R/bin/R CMD build --keep-empty-dirs --no-resave-data sigsquared StartedAt: 2023-04-10 18:14:36 -0400 (Mon, 10 Apr 2023) EndedAt: 2023-04-10 18:14:57 -0400 (Mon, 10 Apr 2023) EllapsedTime: 20.9 seconds RetCode: 0 Status: OK PackageFile: sigsquared_1.30.0.tar.gz PackageFileSize: 337.5 KiB