Package: seqPattern Version: 1.30.0 Command: /home/biocbuild/bbs-3.16-bioc/R/bin/R CMD check --install=check:seqPattern.install-out.txt --library=/home/biocbuild/bbs-3.16-bioc/R/site-library --timings seqPattern_1.30.0.tar.gz StartedAt: 2023-04-10 23:58:10 -0400 (Mon, 10 Apr 2023) EndedAt: 2023-04-11 00:00:43 -0400 (Tue, 11 Apr 2023) EllapsedTime: 153.0 seconds RetCode: 0 Status: OK CheckDir: seqPattern.Rcheck Warnings: 0