Package: scoreInvHap Version: 1.20.0 Command: /home/biocbuild/bbs-3.16-bioc/R/bin/R CMD INSTALL scoreInvHap StartedAt: 2023-04-10 15:47:33 -0400 (Mon, 10 Apr 2023) EndedAt: 2023-04-10 15:48:36 -0400 (Mon, 10 Apr 2023) EllapsedTime: 62.9 seconds RetCode: 0 Status: OK